BEGIN:VCALENDAR
VERSION:2.0
PRODID:-//Saint Genies de Malgoires - ECPv4.9.8//NONSGML v1.0//EN
CALSCALE:GREGORIAN
METHOD:PUBLISH
X-WR-CALNAME:Saint Genies de Malgoires
X-ORIGINAL-URL:https://www.saintgeniesdemalgoires.fr
X-WR-CALDESC:Évènements pour Saint Genies de Malgoires
BEGIN:VTIMEZONE
TZID:Europe/Paris
BEGIN:DAYLIGHT
TZOFFSETFROM:+0100
TZOFFSETTO:+0200
TZNAME:CEST
DTSTART:20230326T010000
END:DAYLIGHT
BEGIN:STANDARD
TZOFFSETFROM:+0200
TZOFFSETTO:+0100
TZNAME:CET
DTSTART:20231029T010000
END:STANDARD
END:VTIMEZONE
BEGIN:VEVENT
DTSTART;TZID="Europe/Paris":20230307T080000
DTEND;TZID="Europe/Paris":20230308T170000
DTSTAMP:20260422T123545
CREATED:20230303T145618Z
LAST-MODIFIED:20230303T153725Z
UID:2915-1678176000-1678294800@www.saintgeniesdemalgoires.fr
SUMMARY:Spectacle de Marionnettes
DESCRIPTION:\n \nDeux représentations :\n \nMardi 7 mars 2023 \n18h\net\nMercredi 8 mars 2023\n18h
URL:https://www.saintgeniesdemalgoires.fr/event/spectacle-de-marionnettes/
LOCATION:Place de la Mairie\, 1 rue du 19 mars 1962\, Saint Geniès de Malgoirès\, 30190\, France
END:VEVENT
END:VCALENDAR