BEGIN:VCALENDAR
VERSION:2.0
PRODID:-//Saint Genies de Malgoires - ECPv4.9.8//NONSGML v1.0//EN
CALSCALE:GREGORIAN
METHOD:PUBLISH
X-WR-CALNAME:Saint Genies de Malgoires
X-ORIGINAL-URL:https://www.saintgeniesdemalgoires.fr
X-WR-CALDESC:Évènements pour Saint Genies de Malgoires
BEGIN:VTIMEZONE
TZID:Europe/Paris
BEGIN:DAYLIGHT
TZOFFSETFROM:+0100
TZOFFSETTO:+0200
TZNAME:CEST
DTSTART:20230326T010000
END:DAYLIGHT
BEGIN:STANDARD
TZOFFSETFROM:+0200
TZOFFSETTO:+0100
TZNAME:CET
DTSTART:20231029T010000
END:STANDARD
END:VTIMEZONE
BEGIN:VEVENT
DTSTART;TZID="Europe/Paris":20231208T140000
DTEND;TZID="Europe/Paris":20231208T170000
DTSTAMP:20260422T095142
CREATED:20231115T100151Z
LAST-MODIFIED:20231115T100151Z
UID:3457-1702044000-1702054800@www.saintgeniesdemalgoires.fr
SUMMARY:Noël des aînés
DESCRIPTION:
URL:https://www.saintgeniesdemalgoires.fr/event/noel-des-aines/
LOCATION:Foyer\, 1\, Rue 19 Mars 1962\, Saint-Geniès-de-Malgoirès\, 30190\, France
CATEGORIES:Soirée
ATTACH;FMTTYPE=image/png:https://www.saintgeniesdemalgoires.fr/wp-content/uploads/2023/11/Affiche.png
END:VEVENT
END:VCALENDAR