BEGIN:VCALENDAR
VERSION:2.0
PRODID:-//Saint Genies de Malgoires - ECPv4.9.8//NONSGML v1.0//EN
CALSCALE:GREGORIAN
METHOD:PUBLISH
X-WR-CALNAME:Saint Genies de Malgoires
X-ORIGINAL-URL:https://www.saintgeniesdemalgoires.fr
X-WR-CALDESC:Évènements pour Saint Genies de Malgoires
BEGIN:VTIMEZONE
TZID:Europe/Paris
BEGIN:DAYLIGHT
TZOFFSETFROM:+0100
TZOFFSETTO:+0200
TZNAME:CEST
DTSTART:20200329T010000
END:DAYLIGHT
BEGIN:STANDARD
TZOFFSETFROM:+0200
TZOFFSETTO:+0100
TZNAME:CET
DTSTART:20201025T010000
END:STANDARD
END:VTIMEZONE
BEGIN:VEVENT
DTSTART;TZID="Europe/Paris":20200621T190000
DTEND;TZID="Europe/Paris":20200621T233000
DTSTAMP:20260423T174524
CREATED:20191017T124359Z
LAST-MODIFIED:20191105T145223Z
UID:728-1592766000-1592782200@www.saintgeniesdemalgoires.fr
SUMMARY:Musica'Leins
DESCRIPTION:Le rendez-vous annuel de la musique partout en France et aussi sur le territoire : Musica’Leins fête la musique à Saint Bauzély (parvis du foyer)\, vendredi 21 juin de 19h à minuit.\n\n4 groupes viennent faire connaître leur travail sur une scène professionnelle !\n\nVenez nombreux les encourager et passer une soirée conviviale !\n\nDeux foodtrucks sur place (Pizza Poub et la Crêpe Maison)
URL:https://www.saintgeniesdemalgoires.fr/event/musicaleins/
LOCATION:Plein air\, France
ATTACH;FMTTYPE=image/png:https://www.saintgeniesdemalgoires.fr/wp-content/uploads/2019/10/fdm19_700x394.png
END:VEVENT
END:VCALENDAR