BEGIN:VCALENDAR
VERSION:2.0
PRODID:-//Saint Genies de Malgoires - ECPv4.9.8//NONSGML v1.0//EN
CALSCALE:GREGORIAN
METHOD:PUBLISH
X-WR-CALNAME:Saint Genies de Malgoires
X-ORIGINAL-URL:https://www.saintgeniesdemalgoires.fr
X-WR-CALDESC:Évènements pour Saint Genies de Malgoires
BEGIN:VTIMEZONE
TZID:Europe/Paris
BEGIN:DAYLIGHT
TZOFFSETFROM:+0100
TZOFFSETTO:+0200
TZNAME:CEST
DTSTART:20190331T010000
END:DAYLIGHT
BEGIN:STANDARD
TZOFFSETFROM:+0200
TZOFFSETTO:+0100
TZNAME:CET
DTSTART:20191027T010000
END:STANDARD
END:VTIMEZONE
BEGIN:VEVENT
DTSTART;TZID="Europe/Paris":20190913T183000
DTEND;TZID="Europe/Paris":20190913T183000
DTSTAMP:20260424T080634
CREATED:20190910T133643Z
LAST-MODIFIED:20190910T144338Z
UID:135-1568399400-1568399400@www.saintgeniesdemalgoires.fr
SUMMARY:GUINGUETTE AU JARDIN
DESCRIPTION:Au jardin pédagogique chemin de Tavillan à St-Geniès; soirée musicales de 18h30 à 22h30 avec buvette et barbecue (nous disposons de quelques tables et chaises mais pour plus de confort\, pensez à prendre un siège pliant ou nappe pour pique niquer au sol
URL:https://www.saintgeniesdemalgoires.fr/event/guinguette-au-jardin/
LOCATION:Jardin pédagogique\, Chemin de Tavillan\, Saint-Geniès-de-Malgoirès\, France
END:VEVENT
END:VCALENDAR