BEGIN:VCALENDAR
VERSION:2.0
PRODID:-//Saint Genies de Malgoires - ECPv4.9.8//NONSGML v1.0//EN
CALSCALE:GREGORIAN
METHOD:PUBLISH
X-WR-CALNAME:Saint Genies de Malgoires
X-ORIGINAL-URL:https://www.saintgeniesdemalgoires.fr
X-WR-CALDESC:Évènements pour Saint Genies de Malgoires
BEGIN:VTIMEZONE
TZID:Europe/Paris
BEGIN:DAYLIGHT
TZOFFSETFROM:+0100
TZOFFSETTO:+0200
TZNAME:CEST
DTSTART:20200329T010000
END:DAYLIGHT
BEGIN:STANDARD
TZOFFSETFROM:+0200
TZOFFSETTO:+0100
TZNAME:CET
DTSTART:20201025T010000
END:STANDARD
END:VTIMEZONE
BEGIN:VEVENT
DTSTART;TZID="Europe/Paris":20200703T220000
DTEND;TZID="Europe/Paris":20200703T220000
DTSTAMP:20260422T135037
CREATED:20191017T083932Z
LAST-MODIFIED:20200701T153903Z
UID:1320-1593813600-1593813600@www.saintgeniesdemalgoires.fr
SUMMARY:Cinéma Itinérant en plein air
DESCRIPTION:A partir de 6 ans\n\nLe chien est le meilleur ami de l’homme. Affectueux\, fidèle… mais lorsqu’il vieillit ou se comporte mal\, il est parfois abandonné comme un mouchoir souillé. Et lorsqu’il se retrouve seul face à la nature\, l’instinct animal et l’esprit de meute reprennent le dessus. Solidaire\, déterminée\, notre petite bande de chiens errants va peu à peu réapprendre à se débrouiller seule. Et découvrir la liberté\, au cours d’un extraordinaire voyage\n\n? Entrée : 5 €uros / 4 €uros pour les abonnés\n\nNous proposons un abonnement\, il est valable 2 ans pour toute la famille (même foyer fiscal). Il permet de payer le tarif réduit de 5 euros pour tous les spectacles et 4 pour toutes les séances de cinéma (avec la 10ème gratuite)\n\nSon coût : 10 euros ou 2 euros pour les habitants des communes de Fons\, Gajan\, Mauressargues\, Montagnac\, Montignargues\, Saint Bauzély\, Saint Geniès\, Sauzet (qui financent la programmation culturelle) sur présentation d’un justificatif de domicile.
URL:https://www.saintgeniesdemalgoires.fr/event/cinema-itinerant-en-plein-air/
LOCATION:Plein air\, France
ATTACH;FMTTYPE=image/jpeg:https://www.saintgeniesdemalgoires.fr/wp-content/uploads/2020/07/unnamed.jpg
END:VEVENT
END:VCALENDAR