BEGIN:VCALENDAR
VERSION:2.0
PRODID:-//Saint Genies de Malgoires - ECPv4.9.8//NONSGML v1.0//EN
CALSCALE:GREGORIAN
METHOD:PUBLISH
X-WR-CALNAME:Saint Genies de Malgoires
X-ORIGINAL-URL:https://www.saintgeniesdemalgoires.fr
X-WR-CALDESC:Évènements pour Saint Genies de Malgoires
BEGIN:VTIMEZONE
TZID:Europe/Paris
BEGIN:DAYLIGHT
TZOFFSETFROM:+0100
TZOFFSETTO:+0200
TZNAME:CEST
DTSTART:20230326T010000
END:DAYLIGHT
BEGIN:STANDARD
TZOFFSETFROM:+0200
TZOFFSETTO:+0100
TZNAME:CET
DTSTART:20231029T010000
END:STANDARD
END:VTIMEZONE
BEGIN:VEVENT
DTSTART;TZID="Europe/Paris":20230408T093000
DTEND;TZID="Europe/Paris":20230408T120000
DTSTAMP:20260422T123428
CREATED:20230406T090519Z
LAST-MODIFIED:20230406T090519Z
UID:3001-1680946200-1680955200@www.saintgeniesdemalgoires.fr
SUMMARY:Chasse aux œufs
DESCRIPTION:
URL:https://www.saintgeniesdemalgoires.fr/event/chasse-aux-oeufs/
LOCATION:PARC BARRAL\, CHEMIN DU PARC\, SAINT GENIES DE MALGOIRES\, 30190\, France
CATEGORIES:Associations
ATTACH;FMTTYPE=image/png:https://www.saintgeniesdemalgoires.fr/wp-content/uploads/2023/04/CHASSE-OEUFS-def.png
END:VEVENT
END:VCALENDAR